Workbook

Sheet E1
A1: Questions
A2: 1 | B2: Look up bonus by Performance Rating from lookup table. If error, show Not Available.
A3: 2 | B3: Calculate bonus = Salary * (Performance Rating/5). If error, show Data Missing.
A4: 3 | B4: Convert Performance Rating to text. If error show Unknown.
A5: 4 | B5: Lookup Department. If #N/A append Unknown to it.
A6: 5 | B6: Check if Performance rating contains any error. Return TRUE or FALSE.
A7: 6 | B7: Validate Salary * Bonus calculation. Mark Review or OK.
A8: 7 | B8: Check if VLOOKUP bonus gives error. Return Missing or amount.
A9: 8 | B9: Check if Performance Rating is numeric. Return Valid or Invalid.
A10: 9 | B10: Count how many salaries are numeric.
A11: 10 | B11: Fetch bonus only if rating is numeric else skip.
A14: Employee ID | B14: Employee Name | C14: Department | D14: Performance Rating | E14: Salary | F14: Experience Years | G14: Status | H14: 1 | I14: 2 | J14: 3 | K14: 4 | L14: 5 | M14: 6 | N14: 7 | O14: 8 | P14: 9 | Q14: 10
A15: EMP001 | B15: John May | C15: Sales | D15: 3 | E15: 30000 | F15: 1 | G15: Active | H15: =IFERROR(VLOOKUP(D15,performance_bonus!$A$1:$B$6,2,0),"Not Available") -> 5000 | I15: =IFERROR(E15*(D15/5),"Data Missing") -> 18000 | J15: =IFERROR(TEXT(D15,"0"),"Unknown") -> 3 | K15: =_xlfn.IFNA(VLOOKUP(A15,department!$A$1:$B$16,2,0),"Unknown") -> Sales | L15: =ISERROR(D15) -> FALSE | M15: =IF(ISNUMBER(E15*VLOOKUP(D15,performance_bonus!$A$1:$B$6,2,0)),"Ok","Review") -> Ok | N15: =_xlfn.IFNA(VLOOKUP(D15,performance_bonus!$A$1:$B$6,2,0),"Missing") -> 5000 | O15: =IF(ISNUMBER(D15)=TRUE,"Valid","Invalid") -> Valid | P15: {=SUMPRODUCT(--ISNUMBER(E15:E39))} -> 24 | Q15: =IF(ISNUMBER(D15)=TRUE,VLOOKUP(D15,performance_bonus!$A$1:$B$6,2,0),"Skip") -> 5000
A16: EMP002 | B16: Peter White | C16: IT | D16: 4 | E16: 35000 | F16: 2 | G16: Active | H16: =IFERROR(VLOOKUP(D16,performance_bonus!$A$1:$B$6,2,0),"Not Available") -> 7500 | I16: =IFERROR(E16*(D16/5),"Data Missing") -> 28000 | J16: =IFERROR(TEXT(D16,"0"),"Unknown") -> 4 | K16: =_xlfn.IFNA(VLOOKUP(A16,department!$A$1:$B$16,2,0),"Unknown") -> IT | L16: =ISERROR(D16) -> FALSE | M16: =IF(ISNUMBER(E16*VLOOKUP(D16,performance_bonus!$A$1:$B$6,2,0)),"Ok","Review") -> Ok | N16: =_xlfn.IFNA(VLOOKUP(D16,performance_bonus!$A$1:$B$6,2,0),"Missing") -> 7500 | O16: =IF(ISNUMBER(D16)=TRUE,"Valid","Invalid") -> Valid | Q16: =IF(ISNUMBER(D16)=TRUE,VLOOKUP(D16,performance_bonus!$A$1:$B$6,2,0),"Skip") -> 7500
A17: EMP003 | B17: Carl Nowak | C17: HR | D17: 5 | E17: 40000 | F17: 3 | H17: =IFERROR(VLOOKUP(D17,performance_bonus!$A$1:$B$6,2,0),"Not Available") -> 10000 | I17: =IFERROR(E17*(D17/5),"Data Missing") -> 40000 | J17: =IFERROR(TEXT(D17,"0"),"Unknown") -> 5 | K17: =_xlfn.IFNA(VLOOKUP(A17,department!$A$1:$B$16,2,0),"Unknown") -> HR | L17: =ISERROR(D17) -> FALSE | M17: =IF(ISNUMBER(E17*VLOOKUP(D17,performance_bonus!$A$1:$B$6,2,0)),"Ok","Review") -> Ok | N17: =_xlfn.IFNA(VLOOKUP(D17,performance_bonus!$A$1:$B$6,2,0),"Missing") -> 10000 | O17: =IF(ISNUMBER(D17)=TRUE,"Valid","Invalid") -> Valid | Q17: =IF(ISNUMBER(D17)=TRUE,VLOOKUP(D17,performance_bonus!$A$1:$B$6,2,0),"Skip") -> 10000
A18: EMP004 | B18: George Ramsay | C18: Finance | D18: 2 | E18: 45000 | F18: 4 | G18: On Leave | H18: =IFERROR(VLOOKUP(D18,performance_bonus!$A$1:$B$6,2,0),"Not Available") -> 2500 | I18: =IFERROR(E18*(D18/5),"Data Missing") -> 18000 | J18: =IFERROR(TEXT(D18,"0"),"Unknown") -> 2 | K18: =_xlfn.IFNA(VLOOKUP(A18,department!$A$1:$B$16,2,0),"Unknown") -> Unknown | L18: =ISERROR(D18) -> FALSE | M18: =IF(ISNUMBER(E18*VLOOKUP(D18,performance_bonus!$A$1:$B$6,2,0)),"Ok","Review") -> Ok | N18: =_xlfn.IFNA(VLOOKUP(D18,performance_bonus!$A$1:$B$6,2,0),"Missing") -> 2500 | O18: =IF(ISNUMBER(D18)=TRUE,"Valid","Invalid") -> Valid | Q18: =IF(ISNUMBER(D18)=TRUE,VLOOKUP(D18,performance_bonus!$A$1:$B$6,2,0),"Skip") -> 2500
A19: EMP005 | C19: Operations | D19: 3 | E19: 50000 | F19: 5 | G19: Active | H19: =IFERROR(VLOOKUP(D19,performance_bonus!$A$1:$B$6,2,0),"Not Available") -> 5000 | I19: =IFERROR(E19*(D19/5),"Data Missing") -> 30000 | J19: =IFERROR(TEXT(D19,"0"),"Unknown") -> 3 | K19: =_xlfn.IFNA(VLOOKUP(A19,department!$A$1:$B$16,2,0),"Unknown") -> Operations | L19: =ISERROR(D19) -> FALSE | M19: =IF(ISNUMBER(E19*VLOOKUP(D19,performance_bonus!$A$1:$B$6,2,0)),"Ok","Review") -> Ok | N19: =_xlfn.IFNA(VLOOKUP(D19,performance_bonus!$A$1:$B$6,2,0),"Missing") -> 5000 | O19: =IF(ISNUMBER(D19)=TRUE,"Valid","Invalid") -> Valid | Q19: =IF(ISNUMBER(D19)=TRUE,VLOOKUP(D19,performance_bonus!$A$1:$B$6,2,0),"Skip") -> 5000
A20: EMP006 | B20: Sarah Chen | C20: Sales | D20: 4 | E20: 55000 | F20: 6 | G20: Active | H20: =IFERROR(VLOOKUP(D20,performance_bonus!$A$1:$B$6,2,0),"Not Available") -> 7500 | I20: =IFERROR(E20*(D20/5),"Data Missing") -> 44000 | J20: =IFERROR(TEXT(D20,"0"),"Unknown") -> 4 | K20: =_xlfn.IFNA(VLOOKUP(A20,department!$A$1:$B$16,2,0),"Unknown") -> Sales | L20: =ISERROR(D20) -> FALSE | M20: =IF(ISNUMBER(E20*VLOOKUP(D20,performance_bonus!$A$1:$B$6,2,0)),"Ok","Review") -> Ok | N20: =_xlfn.IFNA(VLOOKUP(D20,performance_bonus!$A$1:$B$6,2,0),"Missing") -> 7500 | O20: =IF(ISNUMBER(D20)=TRUE,"Valid","Invalid") -> Valid | Q20: =IF(ISNUMBER(D20)=TRUE,VLOOKUP(D20,performance_bonus!$A$1:$B$6,2,0),"Skip") -> 7500
A21: EMP007 | B21: Alice Johnson | C21: IT | D21: 5 | E21: 60000 | F21: 7 | H21: =IFERROR(VLOOKUP(D21,performance_bonus!$A$1:$B$6,2,0),"Not Available") -> 10000 | I21: =IFERROR(E21*(D21/5),"Data Missing") -> 60000 | J21: =IFERROR(TEXT(D21,"0"),"Unknown") -> 5 | K21: =_xlfn.IFNA(VLOOKUP(A21,department!$A$1:$B$16,2,0),"Unknown") -> IT | L21: =ISERROR(D21) -> FALSE | M21: =IF(ISNUMBER(E21*VLOOKUP(D21,performance_bonus!$A$1:$B$6,2,0)),"Ok","Review") -> Ok | N21: =_xlfn.IFNA(VLOOKUP(D21,performance_bonus!$A$1:$B$6,2,0),"Missing") -> 10000 | O21: =IF(ISNUMBER(D21)=TRUE,"Valid","Invalid") -> Valid | Q21: =IF(ISNUMBER(D21)=TRUE,VLOOKUP(D21,performance_bonus!$A$1:$B$6,2,0),"Skip") -> 10000
A22: EMP008 | B22: Bob Smith | C22: HR | D22: 3 | F22: 8 | G22: Active | H22: =IFERROR(VLOOKUP(D22,performance_bonus!$A$1:$B$6,2,0),"Not Available") -> 5000 | I22: =IFERROR(E22*(D22/5),"Data Missing") -> 0 | J22: =IFERROR(TEXT(D22,"0"),"Unknown") -> 3 | K22: =_xlfn.IFNA(VLOOKUP(A22,department!$A$1:$B$16,2,0),"Unknown") -> HR | L22: =ISERROR(D22) -> FALSE | M22: =IF(ISNUMBER(E22*VLOOKUP(D22,performance_bonus!$A$1:$B$6,2,0)),"Ok","Review") -> Ok | N22: =_xlfn.IFNA(VLOOKUP(D22,performance_bonus!$A$1:$B$6,2,0),"Missing") -> 5000 | O22: =IF(ISNUMBER(D22)=TRUE,"Valid","Invalid") -> Valid | Q22: =IF(ISNUMBER(D22)=TRUE,VLOOKUP(D22,performance_bonus!$A$1:$B$6,2,0),"Skip") -> 5000
A23: EMP009 | B23: Carol Davis | C23: Finance | D23: N/A | E23: 35000 | F23: 9 | G23: Active | H23: =IFERROR(VLOOKUP(D23,performance_bonus!$A$1:$B$6,2,0),"Not Available") -> Not Available | I23: =IFERROR(E23*(D23/5),"Data Missing") -> Data Missing | J23: =IFERROR(TEXT(D23,"0"),"Unknown") -> N/A | K23: =_xlfn.IFNA(VLOOKUP(A23,department!$A$1:$B$16,2,0),"Unknown") -> Finance | L23: =ISERROR(D23) -> FALSE | M23: =IF(ISNUMBER(E23*VLOOKUP(D23,performance_bonus!$A$1:$B$6,2,0)),"Ok","Review") -> Review | N23: =_xlfn.IFNA(VLOOKUP(D23,performance_bonus!$A$1:$B$6,2,0),"Missing") -> Missing | O23: =IF(ISNUMBER(D23)=TRUE,"Valid","Invalid") -> Invalid | Q23: =IF(ISNUMBER(D23)=TRUE,VLOOKUP(D23,performance_bonus!$A$1:$B$6,2,0),"Skip") -> Skip
A24: EMP010 | B24: Diana Prince | C24: Operations | D24: 2 | E24: 40000 | F24: 10 | G24: Inactive | H24: =IFERROR(VLOOKUP(D24,performance_bonus!$A$1:$B$6,2,0),"Not Available") -> 2500 | I24: =IFERROR(E24*(D24/5),"Data Missing") -> 16000 | J24: =IFERROR(TEXT(D24,"0"),"Unknown") -> 2 | K24: =_xlfn.IFNA(VLOOKUP(A24,department!$A$1:$B$16,2,0),"Unknown") -> Operations | L24: =ISERROR(D24) -> FALSE | M24: =IF(ISNUMBER(E24*VLOOKUP(D24,performance_bonus!$A$1:$B$6,2,0)),"Ok","Review") -> Ok | N24: =_xlfn.IFNA(VLOOKUP(D24,performance_bonus!$A$1:$B$6,2,0),"Missing") -> 2500 | O24: =IF(ISNUMBER(D24)=TRUE,"Valid","Invalid") -> Valid | Q24: =IF(ISNUMBER(D24)=TRUE,VLOOKUP(D24,performance_bonus!$A$1:$B$6,2,0),"Skip") -> 2500
A25: EMP011 | B25: Evan Moore | C25: Sales | D25: 5 | E25: 45000 | F25: 2 | G25: Active | H25: =IFERROR(VLOOKUP(D25,performance_bonus!$A$1:$B$6,2,0),"Not Available") -> 10000 | I25: =IFERROR(E25*(D25/5),"Data Missing") -> 45000 | J25: =IFERROR(TEXT(D25,"0"),"Unknown") -> 5 | K25: =_xlfn.IFNA(VLOOKUP(A25,department!$A$1:$B$16,2,0),"Unknown") -> Unknown | L25: =ISERROR(D25) -> FALSE | M25: =IF(ISNUMBER(E25*VLOOKUP(D25,performance_bonus!$A$1:$B$6,2,0)),"Ok","Review") -> Ok | N25: =_xlfn.IFNA(VLOOKUP(D25,performance_bonus!$A$1:$B$6,2,0),"Missing") -> 10000 | O25: =IF(ISNUMBER(D25)=TRUE,"Valid","Invalid") -> Valid | Q25: =IF(ISNUMBER(D25)=TRUE,VLOOKUP(D25,performance_bonus!$A$1:$B$6,2,0),"Skip") -> 10000
A26: EMP012 | B26: Frank Miller | C26: IT | D26: 3 | E26: 50000 | F26: 3 | G26: On Leave | H26: =IFERROR(VLOOKUP(D26,performance_bonus!$A$1:$B$6,2,0),"Not Available") -> 5000 | I26: =IFERROR(E26*(D26/5),"Data Missing") -> 30000 | J26: =IFERROR(TEXT(D26,"0"),"Unknown") -> 3 | K26: =_xlfn.IFNA(VLOOKUP(A26,department!$A$1:$B$16,2,0),"Unknown") -> Unknown | L26: =ISERROR(D26) -> FALSE | M26: =IF(ISNUMBER(E26*VLOOKUP(D26,performance_bonus!$A$1:$B$6,2,0)),"Ok","Review") -> Ok | N26: =_xlfn.IFNA(VLOOKUP(D26,performance_bonus!$A$1:$B$6,2,0),"Missing") -> 5000 | O26: =IF(ISNUMBER(D26)=TRUE,"Valid","Invalid") -> Valid | Q26: =IF(ISNUMBER(D26)=TRUE,VLOOKUP(D26,performance_bonus!$A$1:$B$6,2,0),"Skip") -> 5000
A27: EMP013 | B27: Grace Lee | C27: HR | D27: 4 | E27: 55000 | F27: 4 | H27: =IFERROR(VLOOKUP(D27,performance_bonus!$A$1:$B$6,2,0),"Not Available") -> 7500 | I27: =IFERROR(E27*(D27/5),"Data Missing") -> 44000 | J27: =IFERROR(TEXT(D27,"0"),"Unknown") -> 4 | K27: =_xlfn.IFNA(VLOOKUP(A27,department!$A$1:$B$16,2,0),"Unknown") -> Unknown | L27: =ISERROR(D27) -> FALSE | M27: =IF(ISNUMBER(E27*VLOOKUP(D27,performance_bonus!$A$1:$B$6,2,0)),"Ok","Review") -> Ok | N27: =_xlfn.IFNA(VLOOKUP(D27,performance_bonus!$A$1:$B$6,2,0),"Missing") -> 7500 | O27: =IF(ISNUMBER(D27)=TRUE,"Valid","Invalid") -> Valid | Q27: =IF(ISNUMBER(D27)=TRUE,VLOOKUP(D27,performance_bonus!$A$1:$B$6,2,0),"Skip") -> 7500
A28: EMP014 | B28: Henry Wilson | C28: Finance | D28: 2 | E28: 60000 | F28: 5 | G28: Active | H28: =IFERROR(VLOOKUP(D28,performance_bonus!$A$1:$B$6,2,0),"Not Available") -> 2500 | I28: =IFERROR(E28*(D28/5),"Data Missing") -> 24000 | J28: =IFERROR(TEXT(D28,"0"),"Unknown") -> 2 | K28: =_xlfn.IFNA(VLOOKUP(A28,department!$A$1:$B$16,2,0),"Unknown") -> Unknown | L28: =ISERROR(D28) -> FALSE | M28: =IF(ISNUMBER(E28*VLOOKUP(D28,performance_bonus!$A$1:$B$6,2,0)),"Ok","Review") -> Ok | N28: =_xlfn.IFNA(VLOOKUP(D28,performance_bonus!$A$1:$B$6,2,0),"Missing") -> 2500 | O28: =IF(ISNUMBER(D28)=TRUE,"Valid","Invalid") -> Valid | Q28: =IF(ISNUMBER(D28)=TRUE,VLOOKUP(D28,performance_bonus!$A$1:$B$6,2,0),"Skip") -> 2500
A29: EMP015 | B29: Iris Anderson | C29: Operations | D29: 3 | E29: 30000 | F29: 1 | G29: Active | H29: =IFERROR(VLOOKUP(D29,performance_bonus!$A$1:$B$6,2,0),"Not Available") -> 5000 | I29: =IFERROR(E29*(D29/5),"Data Missing") -> 18000 | J29: =IFERROR(TEXT(D29,"0"),"Unknown") -> 3 | K29: =_xlfn.IFNA(VLOOKUP(A29,department!$A$1:$B$16,2,0),"Unknown") -> Unknown | L29: =ISERROR(D29) -> FALSE | M29: =IF(ISNUMBER(E29*VLOOKUP(D29,performance_bonus!$A$1:$B$6,2,0)),"Ok","Review") -> Ok | N29: =_xlfn.IFNA(VLOOKUP(D29,performance_bonus!$A$1:$B$6,2,0),"Missing") -> 5000 | O29: =IF(ISNUMBER(D29)=TRUE,"Valid","Invalid") -> Valid | Q29: =IF(ISNUMBER(D29)=TRUE,VLOOKUP(D29,performance_bonus!$A$1:$B$6,2,0),"Skip") -> 5000
A30: EMP016 | C30: Sales | D30: 4 | E30: 35000 | F30: 6 | G30: Inactive | H30: =IFERROR(VLOOKUP(D30,performance_bonus!$A$1:$B$6,2,0),"Not Available") -> 7500 | I30: =IFERROR(E30*(D30/5),"Data Missing") -> 28000 | J30: =IFERROR(TEXT(D30,"0"),"Unknown") -> 4 | K30: =_xlfn.IFNA(VLOOKUP(A30,department!$A$1:$B$16,2,0),"Unknown") -> Unknown | L30: =ISERROR(D30) -> FALSE | M30: =IF(ISNUMBER(E30*VLOOKUP(D30,performance_bonus!$A$1:$B$6,2,0)),"Ok","Review") -> Ok | N30: =_xlfn.IFNA(VLOOKUP(D30,performance_bonus!$A$1:$B$6,2,0),"Missing") -> 7500 | O30: =IF(ISNUMBER(D30)=TRUE,"Valid","Invalid") -> Valid | Q30: =IF(ISNUMBER(D30)=TRUE,VLOOKUP(D30,performance_bonus!$A$1:$B$6,2,0),"Skip") -> 7500
A31: EMP017 | B31: Karen Thomas | C31: IT | D31: 5 | E31: 40000 | F31: 7 | G31: Active | H31: =IFERROR(VLOOKUP(D31,performance_bonus!$A$1:$B$6,2,0),"Not Available") -> 10000 | I31: =IFERROR(E31*(D31/5),"Data Missing") -> 40000 | J31: =IFERROR(TEXT(D31,"0"),"Unknown") -> 5 | K31: =_xlfn.IFNA(VLOOKUP(A31,department!$A$1:$B$16,2,0),"Unknown") -> Unknown | L31: =ISERROR(D31) -> FALSE | M31: =IF(ISNUMBER(E31*VLOOKUP(D31,performance_bonus!$A$1:$B$6,2,0)),"Ok","Review") -> Ok | N31: =_xlfn.IFNA(VLOOKUP(D31,performance_bonus!$A$1:$B$6,2,0),"Missing") -> 10000 | O31: =IF(ISNUMBER(D31)=TRUE,"Valid","Invalid") -> Valid | Q31: =IF(ISNUMBER(D31)=TRUE,VLOOKUP(D31,performance_bonus!$A$1:$B$6,2,0),"Skip") -> 10000
A32: EMP018 | B32: Liam Martin | C32: HR | D32: 3 | E32: 45000 | F32: 8 | H32: =IFERROR(VLOOKUP(D32,performance_bonus!$A$1:$B$6,2,0),"Not Available") -> 5000 | I32: =IFERROR(E32*(D32/5),"Data Missing") -> 27000 | J32: =IFERROR(TEXT(D32,"0"),"Unknown") -> 3 | K32: =_xlfn.IFNA(VLOOKUP(A32,department!$A$1:$B$16,2,0),"Unknown") -> Unknown | L32: =ISERROR(D32) -> FALSE | M32: =IF(ISNUMBER(E32*VLOOKUP(D32,performance_bonus!$A$1:$B$6,2,0)),"Ok","Review") -> Ok | N32: =_xlfn.IFNA(VLOOKUP(D32,performance_bonus!$A$1:$B$6,2,0),"Missing") -> 5000 | O32: =IF(ISNUMBER(D32)=TRUE,"Valid","Invalid") -> Valid | Q32: =IF(ISNUMBER(D32)=TRUE,VLOOKUP(D32,performance_bonus!$A$1:$B$6,2,0),"Skip") -> 5000
A33: EMP019 | B33: Maria Garcia | C33: Finance | D33: 4 | E33: 50000 | F33: 2 | G33: Active | H33: =IFERROR(VLOOKUP(D33,performance_bonus!$A$1:$B$6,2,0),"Not Available") -> 7500 | I33: =IFERROR(E33*(D33/5),"Data Missing") -> 40000 | J33: =IFERROR(TEXT(D33,"0"),"Unknown") -> 4 | K33: =_xlfn.IFNA(VLOOKUP(A33,department!$A$1:$B$16,2,0),"Unknown") -> Unknown | L33: =ISERROR(D33) -> FALSE | M33: =IF(ISNUMBER(E33*VLOOKUP(D33,performance_bonus!$A$1:$B$6,2,0)),"Ok","Review") -> Ok | N33: =_xlfn.IFNA(VLOOKUP(D33,performance_bonus!$A$1:$B$6,2,0),"Missing") -> 7500 | O33: =IF(ISNUMBER(D33)=TRUE,"Valid","Invalid") -> Valid | Q33: =IF(ISNUMBER(D33)=TRUE,VLOOKUP(D33,performance_bonus!$A$1:$B$6,2,0),"Skip") -> 7500
A34: EMP020 | B34: Nina Taylor | C34: Operations | D34: 2 | E34: 55000 | F34: 3 | G34: On Leave | H34: =IFERROR(VLOOKUP(D34,performance_bonus!$A$1:$B$6,2,0),"Not Available") -> 2500 | I34: =IFERROR(E34*(D34/5),"Data Missing") -> 22000 | J34: =IFERROR(TEXT(D34,"0"),"Unknown") -> 2 | K34: =_xlfn.IFNA(VLOOKUP(A34,department!$A$1:$B$16,2,0),"Unknown") -> Operations | L34: =ISERROR(D34) -> FALSE | M34: =IF(ISNUMBER(E34*VLOOKUP(D34,performance_bonus!$A$1:$B$6,2,0)),"Ok","Review") -> Ok | N34: =_xlfn.IFNA(VLOOKUP(D34,performance_bonus!$A$1:$B$6,2,0),"Missing") -> 2500 | O34: =IF(ISNUMBER(D34)=TRUE,"Valid","Invalid") -> Valid | Q34: =IF(ISNUMBER(D34)=TRUE,VLOOKUP(D34,performance_bonus!$A$1:$B$6,2,0),"Skip") -> 2500
A35: EMP021 | B35: Oscar Harris | C35: Sales | D35: 3 | E35: 60000 | F35: 4 | G35: Active | H35: =IFERROR(VLOOKUP(D35,performance_bonus!$A$1:$B$6,2,0),"Not Available") -> 5000 | I35: =IFERROR(E35*(D35/5),"Data Missing") -> 36000 | J35: =IFERROR(TEXT(D35,"0"),"Unknown") -> 3 | K35: =_xlfn.IFNA(VLOOKUP(A35,department!$A$1:$B$16,2,0),"Unknown") -> Sales | L35: =ISERROR(D35) -> FALSE | M35: =IF(ISNUMBER(E35*VLOOKUP(D35,performance_bonus!$A$1:$B$6,2,0)),"Ok","Review") -> Ok | N35: =_xlfn.IFNA(VLOOKUP(D35,performance_bonus!$A$1:$B$6,2,0),"Missing") -> 5000 | O35: =IF(ISNUMBER(D35)=TRUE,"Valid","Invalid") -> Valid | Q35: =IF(ISNUMBER(D35)=TRUE,VLOOKUP(D35,performance_bonus!$A$1:$B$6,2,0),"Skip") -> 5000
A36: EMP022 | B36: Patricia Clark | C36: IT | D36: 4 | E36: 30000 | F36: 5 | G36: Active | H36: =IFERROR(VLOOKUP(D36,performance_bonus!$A$1:$B$6,2,0),"Not Available") -> 7500 | I36: =IFERROR(E36*(D36/5),"Data Missing") -> 24000 | J36: =IFERROR(TEXT(D36,"0"),"Unknown") -> 4 | K36: =_xlfn.IFNA(VLOOKUP(A36,department!$A$1:$B$16,2,0),"Unknown") -> IT | L36: =ISERROR(D36) -> FALSE | M36: =IF(ISNUMBER(E36*VLOOKUP(D36,performance_bonus!$A$1:$B$6,2,0)),"Ok","Review") -> Ok | N36: =_xlfn.IFNA(VLOOKUP(D36,performance_bonus!$A$1:$B$6,2,0),"Missing") -> 7500 | O36: =IF(ISNUMBER(D36)=TRUE,"Valid","Invalid") -> Valid | Q36: =IF(ISNUMBER(D36)=TRUE,VLOOKUP(D36,performance_bonus!$A$1:$B$6,2,0),"Skip") -> 7500
A37: EMP023 | B37: Quinn Lewis | C37: HR | D37: 5 | E37: 35000 | F37: 6 | H37: =IFERROR(VLOOKUP(D37,performance_bonus!$A$1:$B$6,2,0),"Not Available") -> 10000 | I37: =IFERROR(E37*(D37/5),"Data Missing") -> 35000 | J37: =IFERROR(TEXT(D37,"0"),"Unknown") -> 5 | K37: =_xlfn.IFNA(VLOOKUP(A37,department!$A$1:$B$16,2,0),"Unknown") -> HR | L37: =ISERROR(D37) -> FALSE | M37: =IF(ISNUMBER(E37*VLOOKUP(D37,performance_bonus!$A$1:$B$6,2,0)),"Ok","Review") -> Ok | N37: =_xlfn.IFNA(VLOOKUP(D37,performance_bonus!$A$1:$B$6,2,0),"Missing") -> 10000 | O37: =IF(ISNUMBER(D37)=TRUE,"Valid","Invalid") -> Valid | Q37: =IF(ISNUMBER(D37)=TRUE,VLOOKUP(D37,performance_bonus!$A$1:$B$6,2,0),"Skip") -> 10000
A38: EMP024 | B38: Rachel Walker | C38: Finance | D38: 3 | E38: 40000 | F38: 7 | G38: Active | H38: =IFERROR(VLOOKUP(D38,performance_bonus!$A$1:$B$6,2,0),"Not Available") -> 5000 | I38: =IFERROR(E38*(D38/5),"Data Missing") -> 24000 | J38: =IFERROR(TEXT(D38,"0"),"Unknown") -> 3 | K38: =_xlfn.IFNA(VLOOKUP(A38,department!$A$1:$B$16,2,0),"Unknown") -> Finance | L38: =ISERROR(D38) -> FALSE | M38: =IF(ISNUMBER(E38*VLOOKUP(D38,performance_bonus!$A$1:$B$6,2,0)),"Ok","Review") -> Ok | N38: =_xlfn.IFNA(VLOOKUP(D38,performance_bonus!$A$1:$B$6,2,0),"Missing") -> 5000 | O38: =IF(ISNUMBER(D38)=TRUE,"Valid","Invalid") -> Valid | Q38: =IF(ISNUMBER(D38)=TRUE,VLOOKUP(D38,performance_bonus!$A$1:$B$6,2,0),"Skip") -> 5000
A39: EMP025 | B39: Steve Hall | C39: Operations | D39: 4 | E39: 45000 | F39: 8 | G39: Active | H39: =IFERROR(VLOOKUP(D39,performance_bonus!$A$1:$B$6,2,0),"Not Available") -> 7500 | I39: =IFERROR(E39*(D39/5),"Data Missing") -> 36000 | J39: =IFERROR(TEXT(D39,"0"),"Unknown") -> 4 | K39: =_xlfn.IFNA(VLOOKUP(A39,department!$A$1:$B$16,2,0),"Unknown") -> Operations | L39: =ISERROR(D39) -> FALSE | M39: =IF(ISNUMBER(E39*VLOOKUP(D39,performance_bonus!$A$1:$B$6,2,0)),"Ok","Review") -> Ok | N39: =_xlfn.IFNA(VLOOKUP(D39,performance_bonus!$A$1:$B$6,2,0),"Missing") -> 7500 | O39: =IF(ISNUMBER(D39)=TRUE,"Valid","Invalid") -> Valid | Q39: =IF(ISNUMBER(D39)=TRUE,VLOOKUP(D39,performance_bonus!$A$1:$B$6,2,0),"Skip") -> 7500

Sheet E2
A1: Questions
A2: 11 | B2: Check if Department is text. Return Text Found or No Text.
A3: 12 | B3: Count employees with text in Status.
A4: 13 | B4: Mark if Employee Name has text.
A5: 14 | B5: Count salary values that are NOT text.
A6: 15 | B6: Check if Status is blank. Return Empty or Has Value.
A7: 16 | B7: Count how many Status cells are blank.
A8: 17 | B8: Mark Incomplete Record if Name or Status is blank.
A11: Employee ID | B11: Employee Name | C11: Department | D11: Performance Rating | E11: Salary | F11: Experience Years | G11: Status | H11: 11 | I11: =+H11+1 -> 12 | J11: =+I11+1 -> 13 | K11: =+J11+1 -> 14 | L11: =+K11+1 -> 15 | M11: =+L11+1 -> 16 | N11: =+M11+1 -> 17
A12: EMP001 | B12: John May | C12: Sales | D12: 3 | E12: 30000 | F12: 1 | G12: Active | H12: =IF(ISTEXT(C12)=TRUE,"Text Found","No Text") -> Text Found | I12: =COUNTA(G12:G36) -> 20 | J12: =ISTEXT(B12) -> TRUE | K12: =ISNONTEXT(E12) -> TRUE | L12: =ISBLANK(G12) -> FALSE | M12: =COUNTBLANK(G12:G36) -> 5 | N12: =IF(OR(ISBLANK(B12),ISBLANK(G12)),"Incomplete Record","Complete") -> Complete
A13: EMP002 | B13: Peter White | C13: IT | D13: 4 | E13: 35000 | F13: 2 | G13: Active | H13: =IF(ISTEXT(C13)=TRUE,"Text Found","No Text") -> Text Found | J13: =ISTEXT(B13) -> TRUE | K13: =ISNONTEXT(E13) -> TRUE | L13: =ISBLANK(G13) -> FALSE | N13: =IF(OR(ISBLANK(B13),ISBLANK(G13)),"Incomplete Record","Complete") -> Complete
A14: EMP003 | B14: Carl Nowak | C14: HR | D14: 5 | E14: 40000 | F14: 3 | H14: =IF(ISTEXT(C14)=TRUE,"Text Found","No Text") -> Text Found | J14: =ISTEXT(B14) -> TRUE | K14: =ISNONTEXT(E14) -> TRUE | L14: =ISBLANK(G14) -> TRUE | N14: =IF(OR(ISBLANK(B14),ISBLANK(G14)),"Incomplete Record","Complete") -> Incomplete Record
A15: EMP004 | B15: George Ramsay | D15: 2 | E15: 45000 | F15: 4 | G15: On Leave | H15: =IF(ISTEXT(C15)=TRUE,"Text Found","No Text") -> No Text | J15: =ISTEXT(B15) -> TRUE | K15: =ISNONTEXT(E15) -> TRUE | L15: =ISBLANK(G15) -> FALSE | N15: =IF(OR(ISBLANK(B15),ISBLANK(G15)),"Incomplete Record","Complete") -> Complete
A16: EMP005 | C16: Operations | D16: 3 | E16: 50000 | F16: 5 | G16: Active | H16: =IF(ISTEXT(C16)=TRUE,"Text Found","No Text") -> Text Found | J16: =ISTEXT(B16) -> FALSE | K16: =ISNONTEXT(E16) -> TRUE | L16: =ISBLANK(G16) -> FALSE | N16: =IF(OR(ISBLANK(B16),ISBLANK(G16)),"Incomplete Record","Complete") -> Incomplete Record
A17: EMP006 | B17: Sarah Chen | C17: Sales | D17: 4 | E17: 55000 | F17: 6 | G17: Active | H17: =IF(ISTEXT(C17)=TRUE,"Text Found","No Text") -> Text Found | J17: =ISTEXT(B17) -> TRUE | K17: =ISNONTEXT(E17) -> TRUE | L17: =ISBLANK(G17) -> FALSE | N17: =IF(OR(ISBLANK(B17),ISBLANK(G17)),"Incomplete Record","Complete") -> Complete
A18: EMP007 | B18: Alice Johnson | C18: IT | D18: 5 | E18: 60000 | F18: 7 | H18: =IF(ISTEXT(C18)=TRUE,"Text Found","No Text") -> Text Found | J18: =ISTEXT(B18) -> TRUE | K18: =ISNONTEXT(E18) -> TRUE | L18: =ISBLANK(G18) -> TRUE | N18: =IF(OR(ISBLANK(B18),ISBLANK(G18)),"Incomplete Record","Complete") -> Incomplete Record
A19: EMP008 | B19: Bob Smith | C19: HR | D19: 3 | F19: 8 | G19: Active | H19: =IF(ISTEXT(C19)=TRUE,"Text Found","No Text") -> Text Found | J19: =ISTEXT(B19) -> TRUE | K19: =ISNONTEXT(E19) -> TRUE | L19: =ISBLANK(G19) -> FALSE | N19: =IF(OR(ISBLANK(B19),ISBLANK(G19)),"Incomplete Record","Complete") -> Complete
A20: EMP009 | B20: Carol Davis | C20: Finance | D20: N/A | E20: 35000 | F20: 9 | G20: Active | H20: =IF(ISTEXT(C20)=TRUE,"Text Found","No Text") -> Text Found | J20: =ISTEXT(B20) -> TRUE | K20: =ISNONTEXT(E20) -> TRUE | L20: =ISBLANK(G20) -> FALSE | N20: =IF(OR(ISBLANK(B20),ISBLANK(G20)),"Incomplete Record","Complete") -> Complete
A21: EMP010 | B21: Diana Prince | C21: Operations | D21: 2 | E21: 40000 | F21: 10 | G21: Inactive | H21: =IF(ISTEXT(C21)=TRUE,"Text Found","No Text") -> Text Found | J21: =ISTEXT(B21) -> TRUE | K21: =ISNONTEXT(E21) -> TRUE | L21: =ISBLANK(G21) -> FALSE | N21: =IF(OR(ISBLANK(B21),ISBLANK(G21)),"Incomplete Record","Complete") -> Complete
A22: EMP011 | B22: Evan Moore | C22: Sales | D22: 5 | E22: 45000 | F22: 2 | G22: Active | H22: =IF(ISTEXT(C22)=TRUE,"Text Found","No Text") -> Text Found | J22: =ISTEXT(B22) -> TRUE | K22: =ISNONTEXT(E22) -> TRUE | L22: =ISBLANK(G22) -> FALSE | N22: =IF(OR(ISBLANK(B22),ISBLANK(G22)),"Incomplete Record","Complete") -> Complete
A23: EMP012 | B23: Frank Miller | C23: IT | D23: 3 | E23: 50000 | F23: 3 | G23: On Leave | H23: =IF(ISTEXT(C23)=TRUE,"Text Found","No Text") -> Text Found | J23: =ISTEXT(B23) -> TRUE | K23: =ISNONTEXT(E23) -> TRUE | L23: =ISBLANK(G23) -> FALSE | N23: =IF(OR(ISBLANK(B23),ISBLANK(G23)),"Incomplete Record","Complete") -> Complete
A24: EMP013 | B24: Grace Lee | C24: HR | D24: 4 | E24: 55000 | F24: 4 | H24: =IF(ISTEXT(C24)=TRUE,"Text Found","No Text") -> Text Found | J24: =ISTEXT(B24) -> TRUE | K24: =ISNONTEXT(E24) -> TRUE | L24: =ISBLANK(G24) -> TRUE | N24: =IF(OR(ISBLANK(B24),ISBLANK(G24)),"Incomplete Record","Complete") -> Incomplete Record
A25: EMP014 | B25: Henry Wilson | C25: Finance | D25: 2 | E25: 60000 | F25: 5 | G25: Active | H25: =IF(ISTEXT(C25)=TRUE,"Text Found","No Text") -> Text Found | J25: =ISTEXT(B25) -> TRUE | K25: =ISNONTEXT(E25) -> TRUE | L25: =ISBLANK(G25) -> FALSE | N25: =IF(OR(ISBLANK(B25),ISBLANK(G25)),"Incomplete Record","Complete") -> Complete
A26: EMP015 | B26: Iris Anderson | C26: Operations | D26: 3 | E26: 30000 | F26: 1 | G26: Active | H26: =IF(ISTEXT(C26)=TRUE,"Text Found","No Text") -> Text Found | J26: =ISTEXT(B26) -> TRUE | K26: =ISNONTEXT(E26) -> TRUE | L26: =ISBLANK(G26) -> FALSE | N26: =IF(OR(ISBLANK(B26),ISBLANK(G26)),"Incomplete Record","Complete") -> Complete
A27: EMP016 | C27: Sales | D27: 4 | E27: 35000 | F27: 6 | G27: Inactive | H27: =IF(ISTEXT(C27)=TRUE,"Text Found","No Text") -> Text Found | J27: =ISTEXT(B27) -> TRUE | K27: =ISNONTEXT(E27) -> TRUE | L27: =ISBLANK(G27) -> FALSE | N27: =IF(OR(ISBLANK(B27),ISBLANK(G27)),"Incomplete Record","Complete") -> Complete
A28: EMP017 | B28: Karen Thomas | C28: IT | D28: 5 | E28: 40000 | F28: 7 | G28: Active | H28: =IF(ISTEXT(C28)=TRUE,"Text Found","No Text") -> Text Found | J28: =ISTEXT(B28) -> TRUE | K28: =ISNONTEXT(E28) -> TRUE | L28: =ISBLANK(G28) -> FALSE | N28: =IF(OR(ISBLANK(B28),ISBLANK(G28)),"Incomplete Record","Complete") -> Complete
A29: EMP018 | B29: Liam Martin | C29: HR | D29: 3 | E29: 45000 | F29: 8 | H29: =IF(ISTEXT(C29)=TRUE,"Text Found","No Text") -> Text Found | J29: =ISTEXT(B29) -> TRUE | K29: =ISNONTEXT(E29) -> TRUE | L29: =ISBLANK(G29) -> TRUE | N29: =IF(OR(ISBLANK(B29),ISBLANK(G29)),"Incomplete Record","Complete") -> Incomplete Record
A30: EMP019 | B30: Maria Garcia | C30: Finance | D30: 4 | E30: 50000 | F30: 2 | G30: Active | H30: =IF(ISTEXT(C30)=TRUE,"Text Found","No Text") -> Text Found | J30: =ISTEXT(B30) -> TRUE | K30: =ISNONTEXT(E30) -> TRUE | L30: =ISBLANK(G30) -> FALSE | N30: =IF(OR(ISBLANK(B30),ISBLANK(G30)),"Incomplete Record","Complete") -> Complete
A31: EMP020 | B31: Nina Taylor | C31: Operations | D31: 2 | E31: 55000 | F31: 3 | G31: On Leave | H31: =IF(ISTEXT(C31)=TRUE,"Text Found","No Text") -> Text Found | J31: =ISTEXT(B31) -> TRUE | K31: =ISNONTEXT(E31) -> TRUE | L31: =ISBLANK(G31) -> FALSE | N31: =IF(OR(ISBLANK(B31),ISBLANK(G31)),"Incomplete Record","Complete") -> Complete
A32: EMP021 | B32: Oscar Harris | C32: Sales | D32: 3 | E32: 60000 | F32: 4 | G32: Active | H32: =IF(ISTEXT(C32)=TRUE,"Text Found","No Text") -> Text Found | J32: =ISTEXT(B32) -> TRUE | K32: =ISNONTEXT(E32) -> TRUE | L32: =ISBLANK(G32) -> FALSE | N32: =IF(OR(ISBLANK(B32),ISBLANK(G32)),"Incomplete Record","Complete") -> Complete
A33: EMP022 | B33: Patricia Clark | C33: IT | D33: 4 | E33: 30000 | F33: 5 | G33: Active | H33: =IF(ISTEXT(C33)=TRUE,"Text Found","No Text") -> Text Found | J33: =ISTEXT(B33) -> TRUE | K33: =ISNONTEXT(E33) -> TRUE | L33: =ISBLANK(G33) -> FALSE | N33: =IF(OR(ISBLANK(B33),ISBLANK(G33)),"Incomplete Record","Complete") -> Complete
A34: EMP023 | B34: Quinn Lewis | C34: HR | D34: 5 | E34: 35000 | F34: 6 | H34: =IF(ISTEXT(C34)=TRUE,"Text Found","No Text") -> Text Found | J34: =ISTEXT(B34) -> TRUE | K34: =ISNONTEXT(E34) -> TRUE | L34: =ISBLANK(G34) -> TRUE | N34: =IF(OR(ISBLANK(B34),ISBLANK(G34)),"Incomplete Record","Complete") -> Incomplete Record
A35: EMP024 | B35: Rachel Walker | C35: Finance | D35: 3 | E35: 40000 | F35: 7 | G35: Active | H35: =IF(ISTEXT(C35)=TRUE,"Text Found","No Text") -> Text Found | J35: =ISTEXT(B35) -> TRUE | K35: =ISNONTEXT(E35) -> TRUE | L35: =ISBLANK(G35) -> FALSE | N35: =IF(OR(ISBLANK(B35),ISBLANK(G35)),"Incomplete Record","Complete") -> Complete
A36: EMP025 | B36: Steve Hall | C36: Operations | D36: 4 | E36: 45000 | F36: 8 | G36: Active | H36: =IF(ISTEXT(C36)=TRUE,"Text Found","No Text") -> Text Found | J36: =ISTEXT(B36) -> TRUE | K36: =ISNONTEXT(E36) -> TRUE | L36: =ISBLANK(G36) -> FALSE | N36: =IF(OR(ISBLANK(B36),ISBLANK(G36)),"Incomplete Record","Complete") -> Complete

Sheet performance_bonus
A1: Performance Rating | B1: Bonus Amount
A2: 5 | B2: 10000
A3: 4 | B3: 7500
A4: 3 | B4: 5000
A5: 2 | B5: 2500
A6: 1 | B6: 0

Sheet department
A1: Employee ID | B1: Department
A2: EMP001 | B2: Sales
A3: EMP002 | B3: IT
A4: EMP003 | B4: HR
A5: EMP005 | B5: Operations
A6: EMP006 | B6: Sales
A7: EMP007 | B7: IT
A8: EMP008 | B8: HR
A9: EMP009 | B9: Finance
A10: EMP010 | B10: Operations
A11: EMP020 | B11: Operations
A12: EMP021 | B12: Sales
... A16: EMP025 | B16: Operations
